BEGIN:VCALENDAR
VERSION:2.0
PRODID:-//Calvary United Church of Christ - ECPv6.2.9//NONSGML v1.0//EN
CALSCALE:GREGORIAN
METHOD:PUBLISH
X-WR-CALNAME:Calvary United Church of Christ
X-ORIGINAL-URL:https://calvaryreformeducc.org
X-WR-CALDESC:Events for Calvary United Church of Christ
REFRESH-INTERVAL;VALUE=DURATION:PT1H
X-Robots-Tag:noindex
X-PUBLISHED-TTL:PT1H
BEGIN:VTIMEZONE
TZID:America/New_York
BEGIN:DAYLIGHT
TZOFFSETFROM:-0500
TZOFFSETTO:-0400
TZNAME:EDT
DTSTART:20230312T070000
END:DAYLIGHT
BEGIN:STANDARD
TZOFFSETFROM:-0400
TZOFFSETTO:-0500
TZNAME:EST
DTSTART:20231105T060000
END:STANDARD
END:VTIMEZONE
BEGIN:VEVENT
DTSTART;TZID=America/New_York:20230921T100000
DTEND;TZID=America/New_York:20230921T110000
DTSTAMP:20260422T212229
CREATED:20230920T155009Z
LAST-MODIFIED:20230920T155010Z
UID:10003919-1695290400-1695294000@calvaryreformeducc.org
SUMMARY:Music Together Class - Choir Room
DESCRIPTION:Register online at Music Together READING – Popovsky Performing Arts Studio
URL:https://calvaryreformeducc.org/event/music-together-class-choir-room-2-2/2023-09-21/
END:VEVENT
BEGIN:VEVENT
DTSTART;TZID=America/New_York:20230921T110000
DTEND;TZID=America/New_York:20230921T140000
DTSTAMP:20260422T212229
CREATED:20230828T123706Z
LAST-MODIFIED:20230828T123706Z
UID:10003914-1695294000-1695304800@calvaryreformeducc.org
SUMMARY:United Way Meeting - Pine Room
DESCRIPTION:
URL:https://calvaryreformeducc.org/event/united-way-meeting-pine-room/
END:VEVENT
BEGIN:VEVENT
DTSTART;TZID=America/New_York:20230921T190000
DTEND;TZID=America/New_York:20230921T213000
DTSTAMP:20260422T212229
CREATED:20230504T134750Z
LAST-MODIFIED:20230504T134750Z
UID:10003625-1695322800-1695331800@calvaryreformeducc.org
SUMMARY:Path of Holiness - Chapel
DESCRIPTION:
URL:https://calvaryreformeducc.org/event/path-of-holiness-chapel-5/2023-09-21/
LOCATION:640 Centre Ave\, Reading\, PA\, 19601\, United States
END:VEVENT
END:VCALENDAR