BEGIN:VCALENDAR
VERSION:2.0
PRODID:-//Calvary United Church of Christ - ECPv6.2.9//NONSGML v1.0//EN
CALSCALE:GREGORIAN
METHOD:PUBLISH
X-WR-CALNAME:Calvary United Church of Christ
X-ORIGINAL-URL:https://calvaryreformeducc.org
X-WR-CALDESC:Events for Calvary United Church of Christ
REFRESH-INTERVAL;VALUE=DURATION:PT1H
X-Robots-Tag:noindex
X-PUBLISHED-TTL:PT1H
BEGIN:VTIMEZONE
TZID:America/New_York
BEGIN:DAYLIGHT
TZOFFSETFROM:-0500
TZOFFSETTO:-0400
TZNAME:EDT
DTSTART:20210314T070000
END:DAYLIGHT
BEGIN:STANDARD
TZOFFSETFROM:-0400
TZOFFSETTO:-0500
TZNAME:EST
DTSTART:20211107T060000
END:STANDARD
END:VTIMEZONE
BEGIN:VEVENT
DTSTART;TZID=America/New_York:20211222T190000
DTEND;TZID=America/New_York:20211222T210000
DTSTAMP:20260423T051043
CREATED:20211011T174739Z
LAST-MODIFIED:20211011T174739Z
UID:10002368-1640199600-1640206800@calvaryreformeducc.org
SUMMARY:IPEN in the Chapel
DESCRIPTION:
URL:https://calvaryreformeducc.org/event/ipen-in-the-chapel-2/2021-12-22/
LOCATION:640 Centre Ave\, Reading\, PA\, 19601\, United States
END:VEVENT
BEGIN:VEVENT
DTSTART;TZID=America/New_York:20211223T150000
DTEND;TZID=America/New_York:20211223T170000
DTSTAMP:20260423T051043
CREATED:20211011T174835Z
LAST-MODIFIED:20211011T191829Z
UID:10002381-1640271600-1640278800@calvaryreformeducc.org
SUMMARY:Lift Zone - Pine Room
DESCRIPTION:
URL:https://calvaryreformeducc.org/event/lift-zone-in-the-pine-lounge/2021-12-23/
LOCATION:640 Centre Ave\, Reading\, PA\, 19601\, United States
END:VEVENT
BEGIN:VEVENT
DTSTART;TZID=America/New_York:20211224T170000
DTEND;TZID=America/New_York:20211224T180000
DTSTAMP:20260423T051043
CREATED:20211011T191444Z
LAST-MODIFIED:20211203T194226Z
UID:10002416-1640365200-1640368800@calvaryreformeducc.org
SUMMARY:Calvary Christmas Eve - Sanctuary
DESCRIPTION:Worship services will be held at 5 pm\, 7 pm\, and 10:30pm. All three will include candle lighting\, carols\, and communion. \nThere will be special music at 6:30 pm and 10 pm.
URL:https://calvaryreformeducc.org/event/calvary-christmas-eve-sanctuary/2021-12-24/1/
LOCATION:640 Centre Ave\, Reading\, PA\, 19601\, United States
END:VEVENT
BEGIN:VEVENT
DTSTART;TZID=America/New_York:20211224T190000
DTEND;TZID=America/New_York:20211224T200000
DTSTAMP:20260423T051043
CREATED:20211011T191444Z
LAST-MODIFIED:20211203T194226Z
UID:10002417-1640372400-1640376000@calvaryreformeducc.org
SUMMARY:Calvary Christmas Eve - Sanctuary
DESCRIPTION:Worship services will be held at 5 pm\, 7 pm\, and 10:30pm. All three will include candle lighting\, carols\, and communion. \nThere will be special music at 6:30 pm and 10 pm.
URL:https://calvaryreformeducc.org/event/calvary-christmas-eve-sanctuary/2021-12-24/2/
LOCATION:640 Centre Ave\, Reading\, PA\, 19601\, United States
END:VEVENT
BEGIN:VEVENT
DTSTART;TZID=America/New_York:20211224T220000
DTEND;TZID=America/New_York:20211225T020000
DTSTAMP:20260423T051043
CREATED:20211011T191248Z
LAST-MODIFIED:20211011T191248Z
UID:10002415-1640383200-1640397600@calvaryreformeducc.org
SUMMARY:All Souls Christmas Eve - Chapel & Heritage room
DESCRIPTION:
URL:https://calvaryreformeducc.org/event/all-souls-christmas-eve-chapel-heritage-room/
LOCATION:640 Centre Ave\, Reading\, PA\, 19601\, United States
END:VEVENT
BEGIN:VEVENT
DTSTART;TZID=America/New_York:20211225T120000
DTEND;TZID=America/New_York:20211225T140000
DTSTAMP:20260423T051043
CREATED:20211011T175114Z
LAST-MODIFIED:20211011T175114Z
UID:10002396-1640433600-1640440800@calvaryreformeducc.org
SUMMARY:IPEN in the Chapel
DESCRIPTION:
URL:https://calvaryreformeducc.org/event/ipen-in-the-chapel-3/2021-12-25/
LOCATION:640 Centre Ave\, Reading\, PA\, 19601\, United States
END:VEVENT
END:VCALENDAR