BEGIN:VCALENDAR
VERSION:2.0
PRODID:-//Calvary United Church of Christ - ECPv6.2.9//NONSGML v1.0//EN
CALSCALE:GREGORIAN
METHOD:PUBLISH
X-WR-CALNAME:Calvary United Church of Christ
X-ORIGINAL-URL:https://calvaryreformeducc.org
X-WR-CALDESC:Events for Calvary United Church of Christ
REFRESH-INTERVAL;VALUE=DURATION:PT1H
X-Robots-Tag:noindex
X-PUBLISHED-TTL:PT1H
BEGIN:VTIMEZONE
TZID:America/New_York
BEGIN:DAYLIGHT
TZOFFSETFROM:-0500
TZOFFSETTO:-0400
TZNAME:EDT
DTSTART:20220313T070000
END:DAYLIGHT
BEGIN:STANDARD
TZOFFSETFROM:-0400
TZOFFSETTO:-0500
TZNAME:EST
DTSTART:20221106T060000
END:STANDARD
END:VTIMEZONE
BEGIN:VEVENT
DTSTART;TZID=America/New_York:20221114T100000
DTEND;TZID=America/New_York:20221114T113000
DTSTAMP:20260424T010702
CREATED:20221109T153847Z
LAST-MODIFIED:20221109T153847Z
UID:10002834-1668420000-1668425400@calvaryreformeducc.org
SUMMARY:Finance Meeting - Pine Room
DESCRIPTION:
URL:https://calvaryreformeducc.org/event/finance-meeting-pine-room/
LOCATION:640 Centre Ave\, Reading\, PA\, 19601\, United States
END:VEVENT
BEGIN:VEVENT
DTSTART;TZID=America/New_York:20221116T160000
DTEND;TZID=America/New_York:20221116T190000
DTSTAMP:20260424T010702
CREATED:20220928T161048Z
LAST-MODIFIED:20220928T161048Z
UID:10001496-1668614400-1668625200@calvaryreformeducc.org
SUMMARY:Warm Meal - LGBT Center of Greater Reading
DESCRIPTION:The LGBT Center of Greater Reading offers warm meals every third Wednesday of the month. \nPlease stop by between 5-7 pm. The LGBT Center’s entrance is located at the back of the church by the lower parking lot. \nhttps://www.lgbtcenterofreading.com/programs-events
URL:https://calvaryreformeducc.org/event/warm-meal-lgbt-center-of-greater-reading/2022-11-16/
LOCATION:640 Centre Ave\, Reading\, PA\, 19601\, United States
END:VEVENT
BEGIN:VEVENT
DTSTART;TZID=America/New_York:20221117T190000
DTEND;TZID=America/New_York:20221117T210000
DTSTAMP:20260424T010702
CREATED:20221109T153039Z
LAST-MODIFIED:20221109T153535Z
UID:10002708-1668711600-1668718800@calvaryreformeducc.org
SUMMARY:Consistory Meeting - Pine Room
DESCRIPTION:
URL:https://calvaryreformeducc.org/event/consistory-meeting-pine-room-4/
LOCATION:640 Centre Ave\, Reading\, PA\, 19601\, United States
END:VEVENT
END:VCALENDAR