BEGIN:VCALENDAR
VERSION:2.0
PRODID:-//Calvary United Church of Christ - ECPv6.2.9//NONSGML v1.0//EN
CALSCALE:GREGORIAN
METHOD:PUBLISH
X-WR-CALNAME:Calvary United Church of Christ
X-ORIGINAL-URL:https://calvaryreformeducc.org
X-WR-CALDESC:Events for Calvary United Church of Christ
REFRESH-INTERVAL;VALUE=DURATION:PT1H
X-Robots-Tag:noindex
X-PUBLISHED-TTL:PT1H
BEGIN:VTIMEZONE
TZID:America/New_York
BEGIN:DAYLIGHT
TZOFFSETFROM:-0500
TZOFFSETTO:-0400
TZNAME:EDT
DTSTART:20220313T070000
END:DAYLIGHT
BEGIN:STANDARD
TZOFFSETFROM:-0400
TZOFFSETTO:-0500
TZNAME:EST
DTSTART:20221106T060000
END:STANDARD
END:VTIMEZONE
BEGIN:VEVENT
DTSTART;TZID=America/New_York:20221204T180000
DTEND;TZID=America/New_York:20221204T210000
DTSTAMP:20260421T180641
CREATED:20220928T162342Z
LAST-MODIFIED:20220928T162342Z
UID:10001906-1670176800-1670187600@calvaryreformeducc.org
SUMMARY:Live and Let Live AA Support Group - Pine Room
DESCRIPTION:
URL:https://calvaryreformeducc.org/event/live-and-let-live-aa-support-group-pine-room/2022-12-04/
LOCATION:640 Centre Ave\, Reading\, PA\, 19601\, United States
END:VEVENT
BEGIN:VEVENT
DTSTART;TZID=America/New_York:20221207T190000
DTEND;TZID=America/New_York:20221207T200000
DTSTAMP:20260421T180641
CREATED:20221202T205910Z
LAST-MODIFIED:20230306T152327Z
UID:10002190-1670439600-1670443200@calvaryreformeducc.org
SUMMARY:Choir Practice
DESCRIPTION:
URL:https://calvaryreformeducc.org/event/choir-music-practice/2022-12-07/
LOCATION:640 Centre Ave\, Reading\, PA\, 19601\, United States
END:VEVENT
END:VCALENDAR