BEGIN:VCALENDAR
VERSION:2.0
PRODID:-//Calvary United Church of Christ - ECPv6.2.9//NONSGML v1.0//EN
CALSCALE:GREGORIAN
METHOD:PUBLISH
X-WR-CALNAME:Calvary United Church of Christ
X-ORIGINAL-URL:https://calvaryreformeducc.org
X-WR-CALDESC:Events for Calvary United Church of Christ
REFRESH-INTERVAL;VALUE=DURATION:PT1H
X-Robots-Tag:noindex
X-PUBLISHED-TTL:PT1H
BEGIN:VTIMEZONE
TZID:America/New_York
BEGIN:DAYLIGHT
TZOFFSETFROM:-0500
TZOFFSETTO:-0400
TZNAME:EDT
DTSTART:20230312T070000
END:DAYLIGHT
BEGIN:STANDARD
TZOFFSETFROM:-0400
TZOFFSETTO:-0500
TZNAME:EST
DTSTART:20231105T060000
END:STANDARD
END:VTIMEZONE
BEGIN:VEVENT
DTSTART;TZID=America/New_York:20231008T093000
DTEND;TZID=America/New_York:20231008T100000
DTSTAMP:20260420T021702
CREATED:20230816T124642Z
LAST-MODIFIED:20230816T124642Z
UID:10003892-1696757400-1696759200@calvaryreformeducc.org
SUMMARY:Calvary Chorale Rehearsal
DESCRIPTION:
URL:https://calvaryreformeducc.org/event/calvary-chorale-rehearsal-6/2023-10-08/
END:VEVENT
BEGIN:VEVENT
DTSTART;TZID=America/New_York:20231008T113000
DTEND;TZID=America/New_York:20231008T133000
DTSTAMP:20260420T021702
CREATED:20230920T150912Z
LAST-MODIFIED:20231002T133726Z
UID:10004115-1696764600-1696771800@calvaryreformeducc.org
SUMMARY:Faith Formation with Betsy Majewski
DESCRIPTION:
URL:https://calvaryreformeducc.org/event/sy-with-betsy-majewski/
END:VEVENT
BEGIN:VEVENT
DTSTART;TZID=America/New_York:20231008T113000
DTEND;TZID=America/New_York:20231008T153000
DTSTAMP:20260420T021702
CREATED:20230629T121400Z
LAST-MODIFIED:20230629T121401Z
UID:10001618-1696764600-1696779000@calvaryreformeducc.org
SUMMARY:All Souls Worship & Fellowship - Chapel and Heritage Room
DESCRIPTION:
URL:https://calvaryreformeducc.org/event/all-souls-worship-fellowship-chapel-and-heritage-room-2-2/2023-10-08/
LOCATION:640 Centre Ave\, Reading\, PA\, 19601\, United States
END:VEVENT
BEGIN:VEVENT
DTSTART;TZID=America/New_York:20231008T130000
DTEND;TZID=America/New_York:20231008T170000
DTSTAMP:20260420T021702
CREATED:20230928T120359Z
LAST-MODIFIED:20230928T120359Z
UID:10004142-1696770000-1696784400@calvaryreformeducc.org
SUMMARY:CROP WALK at Gring's Mill
DESCRIPTION:
URL:https://calvaryreformeducc.org/event/crop-walk-at-grings-mill/
END:VEVENT
BEGIN:VEVENT
DTSTART;TZID=America/New_York:20231008T160000
DTEND;TZID=America/New_York:20231008T190000
DTSTAMP:20260420T021702
CREATED:20230911T132903Z
LAST-MODIFIED:20230911T132930Z
UID:10001784-1696780800-1696791600@calvaryreformeducc.org
SUMMARY:Path of Holiness - Chapel
DESCRIPTION:
URL:https://calvaryreformeducc.org/event/path-of-holiness-chapel-2-2/2023-10-08/
END:VEVENT
BEGIN:VEVENT
DTSTART;TZID=America/New_York:20231008T180000
DTEND;TZID=America/New_York:20231008T210000
DTSTAMP:20260420T021702
CREATED:20220928T162342Z
LAST-MODIFIED:20220928T162342Z
UID:10001950-1696788000-1696798800@calvaryreformeducc.org
SUMMARY:Live and Let Live AA Support Group - Pine Room
DESCRIPTION:
URL:https://calvaryreformeducc.org/event/live-and-let-live-aa-support-group-pine-room/2023-10-08/
LOCATION:640 Centre Ave\, Reading\, PA\, 19601\, United States
END:VEVENT
END:VCALENDAR