BEGIN:VCALENDAR
VERSION:2.0
PRODID:-//Calvary United Church of Christ - ECPv6.2.9//NONSGML v1.0//EN
CALSCALE:GREGORIAN
METHOD:PUBLISH
X-WR-CALNAME:Calvary United Church of Christ
X-ORIGINAL-URL:https://calvaryreformeducc.org
X-WR-CALDESC:Events for Calvary United Church of Christ
REFRESH-INTERVAL;VALUE=DURATION:PT1H
X-Robots-Tag:noindex
X-PUBLISHED-TTL:PT1H
BEGIN:VTIMEZONE
TZID:America/New_York
BEGIN:DAYLIGHT
TZOFFSETFROM:-0500
TZOFFSETTO:-0400
TZNAME:EDT
DTSTART:20230312T070000
END:DAYLIGHT
BEGIN:STANDARD
TZOFFSETFROM:-0400
TZOFFSETTO:-0500
TZNAME:EST
DTSTART:20231105T060000
END:STANDARD
END:VTIMEZONE
BEGIN:VEVENT
DTSTART;TZID=America/New_York:20230813T093000
DTEND;TZID=America/New_York:20230813T110000
DTSTAMP:20260424T001620
CREATED:20230628T132243Z
LAST-MODIFIED:20230628T132423Z
UID:10003296-1691919000-1691924400@calvaryreformeducc.org
SUMMARY:Sunday Worship Service 9:30am
DESCRIPTION:
URL:https://calvaryreformeducc.org/event/worship-service-930am-2/2023-08-13/
LOCATION:640 Centre Ave\, Reading\, PA\, 19601\, United States
END:VEVENT
BEGIN:VEVENT
DTSTART;TZID=America/New_York:20230813T113000
DTEND;TZID=America/New_York:20230813T153000
DTSTAMP:20260424T001620
CREATED:20230629T121400Z
LAST-MODIFIED:20230629T121401Z
UID:10001610-1691926200-1691940600@calvaryreformeducc.org
SUMMARY:All Souls Worship & Fellowship - Chapel and Heritage Room
DESCRIPTION:
URL:https://calvaryreformeducc.org/event/all-souls-worship-fellowship-chapel-and-heritage-room-2-2/2023-08-13/
LOCATION:640 Centre Ave\, Reading\, PA\, 19601\, United States
END:VEVENT
BEGIN:VEVENT
DTSTART;TZID=America/New_York:20230813T160000
DTEND;TZID=America/New_York:20230813T190000
DTSTAMP:20260424T001620
CREATED:20220928T162107Z
LAST-MODIFIED:20220928T162107Z
UID:10001776-1691942400-1691953200@calvaryreformeducc.org
SUMMARY:Path of Holiness - Chapel
DESCRIPTION:
URL:https://calvaryreformeducc.org/event/path-of-holiness-chapel-2/2023-08-13/
LOCATION:640 Centre Ave\, Reading\, PA\, 19601\, United States
END:VEVENT
BEGIN:VEVENT
DTSTART;TZID=America/New_York:20230813T180000
DTEND;TZID=America/New_York:20230813T210000
DTSTAMP:20260424T001620
CREATED:20220928T162342Z
LAST-MODIFIED:20220928T162342Z
UID:10001942-1691949600-1691960400@calvaryreformeducc.org
SUMMARY:Live and Let Live AA Support Group - Pine Room
DESCRIPTION:
URL:https://calvaryreformeducc.org/event/live-and-let-live-aa-support-group-pine-room/2023-08-13/
LOCATION:640 Centre Ave\, Reading\, PA\, 19601\, United States
END:VEVENT
BEGIN:VEVENT
DTSTART;TZID=America/New_York:20230815T190000
DTEND;TZID=America/New_York:20230815T213000
DTSTAMP:20260424T001620
CREATED:20230504T134642Z
LAST-MODIFIED:20230504T134718Z
UID:10003516-1692126000-1692135000@calvaryreformeducc.org
SUMMARY:Path of Holiness - Chapel
DESCRIPTION:
URL:https://calvaryreformeducc.org/event/path-of-holiness-chapel-4/2023-08-15/
LOCATION:640 Centre Ave\, Reading\, PA\, 19601\, United States
END:VEVENT
BEGIN:VEVENT
DTSTART;TZID=America/New_York:20230817T080000
DTEND;TZID=America/New_York:20230817T170000
DTSTAMP:20260424T001620
CREATED:20230427T123633Z
LAST-MODIFIED:20230427T123633Z
UID:10003396-1692259200-1692291600@calvaryreformeducc.org
SUMMARY:Health and Wellness Fair - Mary's Shelter
DESCRIPTION:
URL:https://calvaryreformeducc.org/event/health-and-wellness-fair-marys-shelter/
LOCATION:640 Centre Ave\, Reading\, PA\, 19601\, United States
END:VEVENT
BEGIN:VEVENT
DTSTART;TZID=America/New_York:20230817T170000
DTEND;TZID=America/New_York:20230817T200000
DTSTAMP:20260424T001620
CREATED:20230627T123201Z
LAST-MODIFIED:20230627T123201Z
UID:10003721-1692291600-1692302400@calvaryreformeducc.org
SUMMARY:LGBT Center - Pine Room
DESCRIPTION:
URL:https://calvaryreformeducc.org/event/lgbt-center-pine-room-3/
LOCATION:640 Centre Ave\, Reading\, PA\, 19601\, United States
END:VEVENT
BEGIN:VEVENT
DTSTART;TZID=America/New_York:20230817T190000
DTEND;TZID=America/New_York:20230817T213000
DTSTAMP:20260424T001620
CREATED:20230504T134750Z
LAST-MODIFIED:20230504T134750Z
UID:10003620-1692298800-1692307800@calvaryreformeducc.org
SUMMARY:Path of Holiness - Chapel
DESCRIPTION:
URL:https://calvaryreformeducc.org/event/path-of-holiness-chapel-5/2023-08-17/
LOCATION:640 Centre Ave\, Reading\, PA\, 19601\, United States
END:VEVENT
BEGIN:VEVENT
DTSTART;TZID=America/New_York:20230819T120000
DTEND;TZID=America/New_York:20230819T203000
DTSTAMP:20260424T001620
CREATED:20230427T123600Z
LAST-MODIFIED:20230427T123600Z
UID:10003395-1692446400-1692477000@calvaryreformeducc.org
SUMMARY:Anniversary Day - Bethany Children's Home
DESCRIPTION:
URL:https://calvaryreformeducc.org/event/anniversary-day-bethany-childrens-home/
LOCATION:640 Centre Ave\, Reading\, PA\, 19601\, United States
END:VEVENT
END:VCALENDAR