BEGIN:VCALENDAR
VERSION:2.0
PRODID:-//Calvary United Church of Christ - ECPv6.2.9//NONSGML v1.0//EN
CALSCALE:GREGORIAN
METHOD:PUBLISH
X-ORIGINAL-URL:https://calvaryreformeducc.org
X-WR-CALDESC:Events for Calvary United Church of Christ
REFRESH-INTERVAL;VALUE=DURATION:PT1H
X-Robots-Tag:noindex
X-PUBLISHED-TTL:PT1H
BEGIN:VTIMEZONE
TZID:America/New_York
BEGIN:DAYLIGHT
TZOFFSETFROM:-0500
TZOFFSETTO:-0400
TZNAME:EDT
DTSTART:20240310T070000
END:DAYLIGHT
BEGIN:STANDARD
TZOFFSETFROM:-0400
TZOFFSETTO:-0500
TZNAME:EST
DTSTART:20241103T060000
END:STANDARD
END:VTIMEZONE
BEGIN:VEVENT
DTSTART;TZID=America/New_York:20240804T093000
DTEND;TZID=America/New_York:20240804T113000
DTSTAMP:20260419T084834
CREATED:20240226T162828Z
LAST-MODIFIED:20240520T135610Z
UID:10004511-1722763800-1722771000@calvaryreformeducc.org
SUMMARY:Sunday Worship Service at 9:30am
DESCRIPTION:9:30am Worship in the Sanctuary \nOur service will also be available on Facebook Live for your convenience. \nYou can also find previously recorded services on our YouTube page. \n*You can access our current bulletin on the “bulletin” section of our website to follow along*
URL:https://calvaryreformeducc.org/event/sunday-worship-service-at-930am/2024-08-04/
END:VEVENT
BEGIN:VEVENT
DTSTART;TZID=America/New_York:20240804T113000
DTEND;TZID=America/New_York:20240804T153000
DTSTAMP:20260419T084834
CREATED:20230629T121400Z
LAST-MODIFIED:20230629T121401Z
UID:10001661-1722771000-1722785400@calvaryreformeducc.org
SUMMARY:All Souls Worship & Fellowship - Chapel and Heritage Room
DESCRIPTION:
URL:https://calvaryreformeducc.org/event/all-souls-worship-fellowship-chapel-and-heritage-room-2-2/2024-08-04/
LOCATION:640 Centre Ave\, Reading\, PA\, 19601\, United States
END:VEVENT
BEGIN:VEVENT
DTSTART;TZID=America/New_York:20240804T160000
DTEND;TZID=America/New_York:20240804T190000
DTSTAMP:20260419T084834
CREATED:20231214T152848Z
LAST-MODIFIED:20231214T152848Z
UID:10001827-1722787200-1722798000@calvaryreformeducc.org
SUMMARY:Path of Holiness - Chapel
DESCRIPTION:
URL:https://calvaryreformeducc.org/event/path-of-holiness-chapel-2-2-2-2/2024-08-04/
END:VEVENT
BEGIN:VEVENT
DTSTART;TZID=America/New_York:20240804T180000
DTEND;TZID=America/New_York:20240804T210000
DTSTAMP:20260419T084834
CREATED:20220928T162342Z
LAST-MODIFIED:20220928T162342Z
UID:10001993-1722794400-1722805200@calvaryreformeducc.org
SUMMARY:Live and Let Live AA Support Group - Pine Room
DESCRIPTION:
URL:https://calvaryreformeducc.org/event/live-and-let-live-aa-support-group-pine-room/2024-08-04/
LOCATION:640 Centre Ave\, Reading\, PA\, 19601\, United States
END:VEVENT
BEGIN:VEVENT
DTSTART;TZID=America/New_York:20240806T190000
DTEND;TZID=America/New_York:20240806T213000
DTSTAMP:20260419T084834
CREATED:20230504T134642Z
LAST-MODIFIED:20230504T134718Z
UID:10003567-1722970800-1722979800@calvaryreformeducc.org
SUMMARY:Path of Holiness - Chapel
DESCRIPTION:
URL:https://calvaryreformeducc.org/event/path-of-holiness-chapel-4/2024-08-06/
LOCATION:640 Centre Ave\, Reading\, PA\, 19601\, United States
END:VEVENT
BEGIN:VEVENT
DTSTART;TZID=America/New_York:20240808T100000
DTEND;TZID=America/New_York:20240808T110000
DTSTAMP:20260419T084834
CREATED:20240718T152157Z
LAST-MODIFIED:20240718T153447Z
UID:10004558-1723111200-1723114800@calvaryreformeducc.org
SUMMARY:Music Together Class - Choir Room
DESCRIPTION:
URL:https://calvaryreformeducc.org/event/music-together-class-choir-room-8/
END:VEVENT
BEGIN:VEVENT
DTSTART;TZID=America/New_York:20240808T120000
DTEND;TZID=America/New_York:20240808T130000
DTSTAMP:20260419T084834
CREATED:20240805T152506Z
LAST-MODIFIED:20240805T152506Z
UID:10004561-1723118400-1723122000@calvaryreformeducc.org
SUMMARY:Bible Study - Zoom
DESCRIPTION:
URL:https://calvaryreformeducc.org/event/bible-study-zoom/
END:VEVENT
BEGIN:VEVENT
DTSTART;TZID=America/New_York:20240808T190000
DTEND;TZID=America/New_York:20240808T200000
DTSTAMP:20260419T084834
CREATED:20240805T152523Z
LAST-MODIFIED:20240805T152523Z
UID:10004562-1723143600-1723147200@calvaryreformeducc.org
SUMMARY:Bible Study - Zoom
DESCRIPTION:
URL:https://calvaryreformeducc.org/event/bible-study-zoom-2/
END:VEVENT
BEGIN:VEVENT
DTSTART;TZID=America/New_York:20240808T190000
DTEND;TZID=America/New_York:20240808T213000
DTSTAMP:20260419T084834
CREATED:20240226T155358Z
LAST-MODIFIED:20240226T155358Z
UID:10003671-1723143600-1723152600@calvaryreformeducc.org
SUMMARY:Path of Holiness - Chapel
DESCRIPTION:
URL:https://calvaryreformeducc.org/event/path-of-holiness-chapel-5-2/
END:VEVENT
END:VCALENDAR